Package: countsimQC Version: 1.25.0 Command: /Library/Frameworks/R.framework/Resources/bin/R CMD check --install=check:countsimQC.install-out.txt --library=/Library/Frameworks/R.framework/Resources/library --no-vignettes --timings countsimQC_1.25.0.tar.gz StartedAt: 2025-02-09 18:41:30 -0500 (Sun, 09 Feb 2025) EndedAt: 2025-02-09 18:43:53 -0500 (Sun, 09 Feb 2025) EllapsedTime: 143.7 seconds RetCode: 0 Status: OK CheckDir: countsimQC.Rcheck Warnings: 0