Package: countsimQC Version: 1.25.0 Command: /Library/Frameworks/R.framework/Resources/bin/R CMD INSTALL countsimQC StartedAt: 2025-02-09 15:19:47 -0500 (Sun, 09 Feb 2025) EndedAt: 2025-02-09 15:19:59 -0500 (Sun, 09 Feb 2025) EllapsedTime: 12.4 seconds RetCode: 0 Status: OK