Package: countsimQC Version: 1.25.0 Command: /home/biocbuild/R/R/bin/R CMD build --keep-empty-dirs --no-resave-data countsimQC StartedAt: 2025-01-28 22:08:21 -0000 (Tue, 28 Jan 2025) EndedAt: 2025-01-28 22:11:11 -0000 (Tue, 28 Jan 2025) EllapsedTime: 170.1 seconds RetCode: 0 Status: OK PackageFile: countsimQC_1.25.0.tar.gz PackageFileSize: 441 KiB