Package: countsimQC Version: 1.25.0 Command: /Library/Frameworks/R.framework/Resources/bin/R CMD build --keep-empty-dirs --no-resave-data countsimQC StartedAt: 2025-02-09 16:23:49 -0500 (Sun, 09 Feb 2025) EndedAt: 2025-02-09 16:25:39 -0500 (Sun, 09 Feb 2025) EllapsedTime: 109.7 seconds RetCode: 0 Status: OK PackageFile: countsimQC_1.25.0.tar.gz PackageFileSize: 440.4 KiB