Package: countsimQC Version: 1.25.0 Command: /home/biocbuild/bbs-3.21-bioc/R/bin/R CMD check --install=check:countsimQC.install-out.txt --library=/home/biocbuild/bbs-3.21-bioc/R/site-library --timings countsimQC_1.25.0.tar.gz StartedAt: 2025-02-12 21:11:32 -0500 (Wed, 12 Feb 2025) EndedAt: 2025-02-12 21:19:31 -0500 (Wed, 12 Feb 2025) EllapsedTime: 478.6 seconds RetCode: 0 Status: OK CheckDir: countsimQC.Rcheck Warnings: 0