Package: countsimQC Version: 1.25.0 Command: /home/biocbuild/bbs-3.21-bioc/R/bin/R CMD INSTALL countsimQC StartedAt: 2025-02-09 15:27:55 -0500 (Sun, 09 Feb 2025) EndedAt: 2025-02-09 15:28:28 -0500 (Sun, 09 Feb 2025) EllapsedTime: 32.7 seconds RetCode: 0 Status: OK