Package: countsimQC Version: 1.25.0 Command: rm -rf countsimQC.buildbin-libdir && mkdir countsimQC.buildbin-libdir && E:\biocbuild\bbs-3.21-bioc\R\bin\R.exe CMD INSTALL --build --library=countsimQC.buildbin-libdir countsimQC_1.25.0.tar.gz StartedAt: 2025-02-10 07:32:03 -0500 (Mon, 10 Feb 2025) EndedAt: 2025-02-10 07:32:45 -0500 (Mon, 10 Feb 2025) EllapsedTime: 41.3 seconds RetCode: 0 Status: OK PackageFile: countsimQC_1.25.0.zip PackageFileSize: 496.2 KiB