Package: countsimQC Version: 1.25.0 Command: chmod a+r countsimQC -R && E:\biocbuild\bbs-3.21-bioc\R\bin\R.exe CMD build --keep-empty-dirs --no-resave-data countsimQC StartedAt: 2025-02-09 18:04:53 -0500 (Sun, 09 Feb 2025) EndedAt: 2025-02-09 18:07:03 -0500 (Sun, 09 Feb 2025) EllapsedTime: 130.5 seconds RetCode: 0 Status: OK PackageFile: countsimQC_1.25.0.tar.gz PackageFileSize: 440.5 KiB