Package: covEB Version: 1.33.0 Command: rm -rf covEB.buildbin-libdir && mkdir covEB.buildbin-libdir && /Users/biocbuild/BBS/utils/build-universal.sh covEB_1.33.0.tar.gz /Library/Frameworks/R.framework/Resources/bin/R covEB.buildbin-libdir StartedAt: 2025-02-09 22:10:40 -0500 (Sun, 09 Feb 2025) EndedAt: 2025-02-09 22:10:44 -0500 (Sun, 09 Feb 2025) EllapsedTime: 4.1 seconds RetCode: 0 Status: OK PackageFile: covEB_1.33.0.tgz PackageFileSize: 150 KiB