Package: covEB Version: 1.33.0 Command: /home/biocbuild/R/R/bin/R CMD check --install=check:covEB.install-out.txt --library=/home/biocbuild/R/R/site-library --no-vignettes --timings covEB_1.33.0.tar.gz StartedAt: 2025-01-28 09:31:40 -0000 (Tue, 28 Jan 2025) EndedAt: 2025-01-28 09:32:39 -0000 (Tue, 28 Jan 2025) EllapsedTime: 58.1 seconds RetCode: 0 Status: OK CheckDir: covEB.Rcheck Warnings: 0