Package: covEB Version: 1.33.0 Command: /home/biocbuild/bbs-3.21-bioc/R/bin/R CMD build --keep-empty-dirs --no-resave-data covEB StartedAt: 2025-02-04 16:46:04 -0500 (Tue, 04 Feb 2025) EndedAt: 2025-02-04 16:46:21 -0500 (Tue, 04 Feb 2025) EllapsedTime: 17.0 seconds RetCode: 0 Status: OK PackageFile: covEB_1.33.0.tar.gz PackageFileSize: 114.8 KiB