Package: covEB Version: 1.33.0 Command: rm -rf covEB.buildbin-libdir && mkdir covEB.buildbin-libdir && E:\biocbuild\bbs-3.21-bioc\R\bin\R.exe CMD INSTALL --build --library=covEB.buildbin-libdir covEB_1.33.0.tar.gz StartedAt: 2025-02-10 07:32:05 -0500 (Mon, 10 Feb 2025) EndedAt: 2025-02-10 07:32:14 -0500 (Mon, 10 Feb 2025) EllapsedTime: 9.8 seconds RetCode: 0 Status: OK PackageFile: covEB_1.33.0.zip PackageFileSize: 95.68 KiB