Package: covEB Version: 1.33.0 Command: E:\biocbuild\bbs-3.21-bioc\R\bin\R.exe CMD check --no-multiarch --install=check:covEB.install-out.txt --library=E:\biocbuild\bbs-3.21-bioc\R\library --no-vignettes --timings covEB_1.33.0.tar.gz StartedAt: 2025-02-10 00:00:11 -0500 (Mon, 10 Feb 2025) EndedAt: 2025-02-10 00:01:12 -0500 (Mon, 10 Feb 2025) EllapsedTime: 61.1 seconds RetCode: 0 Status: OK CheckDir: covEB.Rcheck Warnings: 0