Package: covRNA Version: 1.33.0 Command: /Library/Frameworks/R.framework/Resources/bin/R CMD check --install=check:covRNA.install-out.txt --library=/Library/Frameworks/R.framework/Resources/library --no-vignettes --timings covRNA_1.33.0.tar.gz StartedAt: 2025-02-09 18:41:48 -0500 (Sun, 09 Feb 2025) EndedAt: 2025-02-09 18:43:30 -0500 (Sun, 09 Feb 2025) EllapsedTime: 102.2 seconds RetCode: 0 Status: OK CheckDir: covRNA.Rcheck Warnings: 0