Package: covRNA Version: 1.33.0 Command: /Library/Frameworks/R.framework/Resources/bin/R CMD INSTALL covRNA StartedAt: 2025-02-09 15:19:49 -0500 (Sun, 09 Feb 2025) EndedAt: 2025-02-09 15:19:56 -0500 (Sun, 09 Feb 2025) EllapsedTime: 7.5 seconds RetCode: 0 Status: OK