Package: covRNA Version: 1.33.0 Command: chmod a+r covRNA -R && E:\biocbuild\bbs-3.21-bioc\R\bin\R.exe CMD build --keep-empty-dirs --no-resave-data covRNA StartedAt: 2025-02-09 18:05:07 -0500 (Sun, 09 Feb 2025) EndedAt: 2025-02-09 18:06:17 -0500 (Sun, 09 Feb 2025) EllapsedTime: 69.8 seconds RetCode: 0 Status: OK PackageFile: covRNA_1.33.0.tar.gz PackageFileSize: 519.6 KiB