Package: cqn Version: 1.53.0 Command: rm -rf cqn.buildbin-libdir && mkdir cqn.buildbin-libdir && /Users/biocbuild/BBS/utils/build-universal.sh cqn_1.53.0.tar.gz /Library/Frameworks/R.framework/Resources/bin/R cqn.buildbin-libdir StartedAt: 2025-02-12 22:15:52 -0500 (Wed, 12 Feb 2025) EndedAt: 2025-02-12 22:15:55 -0500 (Wed, 12 Feb 2025) EllapsedTime: 3.1 seconds RetCode: 0 Status: OK PackageFile: cqn_1.53.0.tgz PackageFileSize: 1.059 MiB