Package: cqn Version: 1.53.0 Command: /Library/Frameworks/R.framework/Resources/bin/R CMD build --keep-empty-dirs --no-resave-data cqn StartedAt: 2025-02-09 15:59:47 -0500 (Sun, 09 Feb 2025) EndedAt: 2025-02-09 15:59:56 -0500 (Sun, 09 Feb 2025) EllapsedTime: 9.1 seconds RetCode: 0 Status: OK PackageFile: cqn_1.53.0.tar.gz PackageFileSize: 1.041 MiB