Package: cqn Version: 1.53.0 Command: /home/biocbuild/bbs-3.21-bioc/R/bin/R CMD build --keep-empty-dirs --no-resave-data cqn StartedAt: 2025-02-09 16:48:38 -0500 (Sun, 09 Feb 2025) EndedAt: 2025-02-09 16:48:54 -0500 (Sun, 09 Feb 2025) EllapsedTime: 16.0 seconds RetCode: 0 Status: OK PackageFile: cqn_1.53.0.tar.gz PackageFileSize: 979.3 KiB