Package: cqn Version: 1.53.0 Command: /home/biocbuild/bbs-3.21-bioc/R/bin/R CMD INSTALL cqn StartedAt: 2025-02-09 15:05:42 -0500 (Sun, 09 Feb 2025) EndedAt: 2025-02-09 15:05:48 -0500 (Sun, 09 Feb 2025) EllapsedTime: 5.6 seconds RetCode: 0 Status: OK