Package: crisprBase Version: 1.11.0 Command: /home/biocbuild/R/R/bin/R CMD build --keep-empty-dirs --no-resave-data crisprBase StartedAt: 2025-01-28 22:09:47 -0000 (Tue, 28 Jan 2025) EndedAt: 2025-01-28 22:10:20 -0000 (Tue, 28 Jan 2025) EllapsedTime: 33.0 seconds RetCode: 0 Status: OK PackageFile: crisprBase_1.11.0.tar.gz PackageFileSize: 1.76 MiB