Package: crisprBase Version: 1.11.0 Command: rm -rf crisprBase.buildbin-libdir && mkdir crisprBase.buildbin-libdir && /Users/biocbuild/BBS/utils/build-universal.sh crisprBase_1.11.0.tar.gz /Library/Frameworks/R.framework/Resources/bin/R crisprBase.buildbin-libdir StartedAt: 2025-02-10 00:48:34 -0500 (Mon, 10 Feb 2025) EndedAt: 2025-02-10 00:48:59 -0500 (Mon, 10 Feb 2025) EllapsedTime: 25.3 seconds RetCode: 0 Status: OK PackageFile: crisprBase_1.11.0.tgz PackageFileSize: 1.523 MiB