Package: crisprBase Version: 1.11.0 Command: /Library/Frameworks/R.framework/Resources/bin/R CMD build --keep-empty-dirs --no-resave-data crisprBase StartedAt: 2025-02-09 16:24:27 -0500 (Sun, 09 Feb 2025) EndedAt: 2025-02-09 16:24:55 -0500 (Sun, 09 Feb 2025) EllapsedTime: 28.6 seconds RetCode: 0 Status: OK PackageFile: crisprBase_1.11.0.tar.gz PackageFileSize: 1.737 MiB