Package: crisprBase Version: 1.11.0 Command: /Library/Frameworks/R.framework/Resources/bin/R CMD check --install=check:crisprBase.install-out.txt --library=/Library/Frameworks/R.framework/Resources/library --no-vignettes --timings crisprBase_1.11.0.tar.gz StartedAt: 2025-02-09 20:00:09 -0500 (Sun, 09 Feb 2025) EndedAt: 2025-02-09 20:02:10 -0500 (Sun, 09 Feb 2025) EllapsedTime: 120.9 seconds RetCode: 0 Status: OK CheckDir: crisprBase.Rcheck Warnings: 0