Package: crisprBase Version: 1.11.0 Command: /Library/Frameworks/R.framework/Resources/bin/R CMD INSTALL crisprBase StartedAt: 2025-02-09 15:09:59 -0500 (Sun, 09 Feb 2025) EndedAt: 2025-02-09 15:10:22 -0500 (Sun, 09 Feb 2025) EllapsedTime: 22.8 seconds RetCode: 0 Status: OK