Package: crisprBase Version: 1.11.0 Command: /home/biocbuild/bbs-3.21-bioc/R/bin/R CMD build --keep-empty-dirs --no-resave-data crisprBase StartedAt: 2025-02-03 16:57:59 -0500 (Mon, 03 Feb 2025) EndedAt: 2025-02-03 16:58:23 -0500 (Mon, 03 Feb 2025) EllapsedTime: 24.0 seconds RetCode: 0 Status: OK PackageFile: crisprBase_1.11.0.tar.gz PackageFileSize: 1.737 MiB