Package: crisprBase Version: 1.11.0 Command: rm -rf crisprBase.buildbin-libdir && mkdir crisprBase.buildbin-libdir && E:\biocbuild\bbs-3.21-bioc\R\bin\R.exe CMD INSTALL --build --library=crisprBase.buildbin-libdir crisprBase_1.11.0.tar.gz StartedAt: 2025-02-10 07:32:13 -0500 (Mon, 10 Feb 2025) EndedAt: 2025-02-10 07:33:20 -0500 (Mon, 10 Feb 2025) EllapsedTime: 66.4 seconds RetCode: 0 Status: OK PackageFile: crisprBase_1.11.0.zip PackageFileSize: 1.466 MiB