Package: crisprBase Version: 1.11.0 Command: E:\biocbuild\bbs-3.21-bioc\R\bin\R.exe CMD INSTALL crisprBase StartedAt: 2025-02-09 15:41:34 -0500 (Sun, 09 Feb 2025) EndedAt: 2025-02-09 15:42:45 -0500 (Sun, 09 Feb 2025) EllapsedTime: 70.7 seconds RetCode: 0 Status: OK