Package: crisprBwa Version: 1.11.0 Command: rm -rf crisprBwa.buildbin-libdir && mkdir crisprBwa.buildbin-libdir && /Users/biocbuild/BBS/utils/build-universal.sh crisprBwa_1.11.0.tar.gz /Library/Frameworks/R.framework/Resources/bin/R crisprBwa.buildbin-libdir StartedAt: 2025-02-12 22:15:55 -0500 (Wed, 12 Feb 2025) EndedAt: 2025-02-12 22:16:10 -0500 (Wed, 12 Feb 2025) EllapsedTime: 14.3 seconds RetCode: 0 Status: OK PackageFile: crisprBwa_1.11.0.tgz PackageFileSize: 369.8 KiB