Package: crisprBwa Version: 1.11.0 Command: /Library/Frameworks/R.framework/Resources/bin/R CMD check --install=check:crisprBwa.install-out.txt --library=/Library/Frameworks/R.framework/Resources/library --no-vignettes --timings crisprBwa_1.11.0.tar.gz StartedAt: 2025-02-09 18:42:42 -0500 (Sun, 09 Feb 2025) EndedAt: 2025-02-09 18:44:20 -0500 (Sun, 09 Feb 2025) EllapsedTime: 98.2 seconds RetCode: 0 Status: OK CheckDir: crisprBwa.Rcheck Warnings: 0