Package: crisprBwa Version: 1.11.0 Command: /Library/Frameworks/R.framework/Resources/bin/R CMD INSTALL crisprBwa StartedAt: 2025-02-12 15:11:31 -0500 (Wed, 12 Feb 2025) EndedAt: 2025-02-12 15:11:44 -0500 (Wed, 12 Feb 2025) EllapsedTime: 12.7 seconds RetCode: 0 Status: OK