Package: crisprBwa Version: 1.11.0 Command: /home/biocbuild/R/R/bin/R CMD INSTALL crisprBwa StartedAt: 2025-01-29 19:55:06 -0000 (Wed, 29 Jan 2025) EndedAt: 2025-01-29 19:55:48 -0000 (Wed, 29 Jan 2025) EllapsedTime: 42.7 seconds RetCode: 0 Status: OK