Package: crisprBwa Version: 1.11.0 Command: /Library/Frameworks/R.framework/Resources/bin/R CMD build --keep-empty-dirs --no-resave-data crisprBwa StartedAt: 2025-02-09 16:24:35 -0500 (Sun, 09 Feb 2025) EndedAt: 2025-02-09 16:25:25 -0500 (Sun, 09 Feb 2025) EllapsedTime: 50.3 seconds RetCode: 0 Status: OK PackageFile: crisprBwa_1.11.0.tar.gz PackageFileSize: 359.7 KiB