Package: crisprBwa Version: 1.11.0 Command: /Library/Frameworks/R.framework/Resources/bin/R CMD check --install=check:crisprBwa.install-out.txt --library=/Library/Frameworks/R.framework/Resources/library --no-vignettes --timings crisprBwa_1.11.0.tar.gz StartedAt: 2025-02-09 20:00:22 -0500 (Sun, 09 Feb 2025) EndedAt: 2025-02-09 20:04:54 -0500 (Sun, 09 Feb 2025) EllapsedTime: 272.4 seconds RetCode: 0 Status: OK CheckDir: crisprBwa.Rcheck Warnings: 0