Package: crisprBwa Version: 1.11.0 Command: /Library/Frameworks/R.framework/Resources/bin/R CMD INSTALL crisprBwa StartedAt: 2025-02-09 15:19:40 -0500 (Sun, 09 Feb 2025) EndedAt: 2025-02-09 15:20:26 -0500 (Sun, 09 Feb 2025) EllapsedTime: 45.9 seconds RetCode: 0 Status: OK