Package: crisprBwa Version: 1.11.0 Command: /home/biocbuild/bbs-3.21-bioc/R/bin/R CMD check --install=check:crisprBwa.install-out.txt --library=/home/biocbuild/bbs-3.21-bioc/R/site-library --timings crisprBwa_1.11.0.tar.gz StartedAt: 2025-02-09 21:16:40 -0500 (Sun, 09 Feb 2025) EndedAt: 2025-02-09 21:20:59 -0500 (Sun, 09 Feb 2025) EllapsedTime: 259.4 seconds RetCode: 0 Status: OK CheckDir: crisprBwa.Rcheck Warnings: 0