Package: crisprDesign Version: 1.9.0 Command: rm -rf crisprDesign.buildbin-libdir && mkdir crisprDesign.buildbin-libdir && /Users/biocbuild/BBS/utils/build-universal.sh crisprDesign_1.9.0.tar.gz /Library/Frameworks/R.framework/Resources/bin/R crisprDesign.buildbin-libdir StartedAt: 2025-02-09 22:10:47 -0500 (Sun, 09 Feb 2025) EndedAt: 2025-02-09 22:11:09 -0500 (Sun, 09 Feb 2025) EllapsedTime: 22.4 seconds RetCode: 0 Status: OK PackageFile: crisprDesign_1.9.0.tgz PackageFileSize: 3.581 MiB