Package: crisprDesign Version: 1.9.0 Command: /Library/Frameworks/R.framework/Resources/bin/R CMD build --keep-empty-dirs --no-resave-data crisprDesign StartedAt: 2025-02-03 16:35:14 -0500 (Mon, 03 Feb 2025) EndedAt: 2025-02-03 16:35:51 -0500 (Mon, 03 Feb 2025) EllapsedTime: 36.4 seconds RetCode: 0 Status: OK PackageFile: crisprDesign_1.9.0.tar.gz PackageFileSize: 2.562 MiB