Package: crisprDesign Version: 1.9.0 Command: /Library/Frameworks/R.framework/Resources/bin/R CMD INSTALL crisprDesign StartedAt: 2025-02-09 15:13:57 -0500 (Sun, 09 Feb 2025) EndedAt: 2025-02-09 15:14:18 -0500 (Sun, 09 Feb 2025) EllapsedTime: 20.7 seconds RetCode: 0 Status: OK