Package: crisprDesign Version: 1.9.0 Command: rm -rf crisprDesign.buildbin-libdir && mkdir crisprDesign.buildbin-libdir && /Users/biocbuild/BBS/utils/build-universal.sh crisprDesign_1.9.0.tar.gz /Library/Frameworks/R.framework/Resources/bin/R crisprDesign.buildbin-libdir StartedAt: 2025-02-10 00:48:36 -0500 (Mon, 10 Feb 2025) EndedAt: 2025-02-10 00:49:50 -0500 (Mon, 10 Feb 2025) EllapsedTime: 73.9 seconds RetCode: 0 Status: OK PackageFile: crisprDesign_1.9.0.tgz PackageFileSize: 3.579 MiB