Package: crisprDesign Version: 1.9.0 Command: chmod a+r crisprDesign -R && E:\biocbuild\bbs-3.21-bioc\R\bin\R.exe CMD build --keep-empty-dirs --no-resave-data crisprDesign StartedAt: 2025-02-09 18:05:56 -0500 (Sun, 09 Feb 2025) EndedAt: 2025-02-09 18:08:42 -0500 (Sun, 09 Feb 2025) EllapsedTime: 166.0 seconds RetCode: 0 Status: OK PackageFile: crisprDesign_1.9.0.tar.gz PackageFileSize: 2.598 MiB