Package: crisprVerse Version: 1.9.0 Command: /Library/Frameworks/R.framework/Resources/bin/R CMD INSTALL crisprVerse StartedAt: 2025-02-09 15:17:14 -0500 (Sun, 09 Feb 2025) EndedAt: 2025-02-09 15:17:34 -0500 (Sun, 09 Feb 2025) EllapsedTime: 20.0 seconds RetCode: 0 Status: OK