Package: crisprVerse Version: 1.9.0 Command: rm -rf crisprVerse.buildbin-libdir && mkdir crisprVerse.buildbin-libdir && /Users/biocbuild/BBS/utils/build-universal.sh crisprVerse_1.9.0.tar.gz /Library/Frameworks/R.framework/Resources/bin/R crisprVerse.buildbin-libdir StartedAt: 2025-02-10 00:48:38 -0500 (Mon, 10 Feb 2025) EndedAt: 2025-02-10 00:49:49 -0500 (Mon, 10 Feb 2025) EllapsedTime: 70.4 seconds RetCode: 0 Status: OK PackageFile: crisprVerse_1.9.0.tgz PackageFileSize: 308.8 KiB