Package: crisprVerse Version: 1.9.0 Command: /Library/Frameworks/R.framework/Resources/bin/R CMD build --keep-empty-dirs --no-resave-data crisprVerse StartedAt: 2025-02-12 16:22:36 -0500 (Wed, 12 Feb 2025) EndedAt: 2025-02-12 16:23:48 -0500 (Wed, 12 Feb 2025) EllapsedTime: 71.9 seconds RetCode: 0 Status: OK PackageFile: crisprVerse_1.9.0.tar.gz PackageFileSize: 295.9 KiB