Package: crisprVerse Version: 1.9.0 Command: /Library/Frameworks/R.framework/Resources/bin/R CMD INSTALL crisprVerse StartedAt: 2025-02-12 15:29:09 -0500 (Wed, 12 Feb 2025) EndedAt: 2025-02-12 15:30:16 -0500 (Wed, 12 Feb 2025) EllapsedTime: 66.7 seconds RetCode: 0 Status: OK