Package: crisprVerse Version: 1.9.0 Command: E:\biocbuild\bbs-3.21-bioc\R\bin\R.exe CMD INSTALL crisprVerse StartedAt: 2025-02-12 16:37:06 -0500 (Wed, 12 Feb 2025) EndedAt: 2025-02-12 16:38:00 -0500 (Wed, 12 Feb 2025) EllapsedTime: 54.8 seconds RetCode: 0 Status: OK