Package: crisprViz Version: 1.9.0 Command: rm -rf crisprViz.buildbin-libdir && mkdir crisprViz.buildbin-libdir && /Users/biocbuild/BBS/utils/build-universal.sh crisprViz_1.9.0.tar.gz /Library/Frameworks/R.framework/Resources/bin/R crisprViz.buildbin-libdir StartedAt: 2025-02-04 22:12:44 -0500 (Tue, 04 Feb 2025) EndedAt: 2025-02-04 22:13:07 -0500 (Tue, 04 Feb 2025) EllapsedTime: 22.4 seconds RetCode: 0 Status: OK PackageFile: crisprViz_1.9.0.tgz PackageFileSize: 1.355 MiB