Package: crisprViz Version: 1.9.0 Command: /Library/Frameworks/R.framework/Resources/bin/R CMD INSTALL crisprViz StartedAt: 2025-02-04 15:17:04 -0500 (Tue, 04 Feb 2025) EndedAt: 2025-02-04 15:17:24 -0500 (Tue, 04 Feb 2025) EllapsedTime: 20.1 seconds RetCode: 0 Status: OK