Package: crisprViz Version: 1.9.0 Command: /home/biocbuild/R/R/bin/R CMD INSTALL crisprViz StartedAt: 2025-01-29 20:09:55 -0000 (Wed, 29 Jan 2025) EndedAt: 2025-01-29 20:11:09 -0000 (Wed, 29 Jan 2025) EllapsedTime: 73.8 seconds RetCode: 0 Status: OK