Package: crisprViz Version: 1.9.0 Command: /Library/Frameworks/R.framework/Resources/bin/R CMD build --keep-empty-dirs --no-resave-data crisprViz StartedAt: 2025-02-04 16:22:08 -0500 (Tue, 04 Feb 2025) EndedAt: 2025-02-04 16:24:28 -0500 (Tue, 04 Feb 2025) EllapsedTime: 139.4 seconds RetCode: 0 Status: OK PackageFile: crisprViz_1.9.0.tar.gz PackageFileSize: 1.302 MiB